BEGIN:VCALENDAR
VERSION:2.0
PRODID:-//Squarespace Inc/Squarespace 6//v6//EN
BEGIN:VEVENT
UID:5ee34a57dc659c5a85dfd0f2@squarespace.com
DTSTAMP:20200612T093941Z
DTSTART:20200901T030000Z
DTEND:20200901T050000Z
SUMMARY:Adaptive Leadership for Educators:  What to do when you don’t know 
 what to do\, with Paul Larkin
END:VEVENT
END:VCALENDAR
