BEGIN:VCALENDAR
VERSION:2.0
PRODID:-//Squarespace Inc/Squarespace 6//v6//EN
BEGIN:VEVENT
UID:5ee34b907d3f04792ac697bd@squarespace.com
DTSTAMP:20200612T093929Z
DTSTART:20200906T230000Z
DTEND:20200907T010000Z
SUMMARY:Cultural Considerations for School Improvement with Dr. Jenni Donoh
 oo\, Dr. Anna Dabrowski\, and Dr. Tim O'Leary
END:VEVENT
END:VCALENDAR
