BEGIN:VCALENDAR
VERSION:2.0
PRODID:-//Squarespace Inc/Squarespace 6//v6//EN
BEGIN:VEVENT
UID:5e9abe09554bbb3b8ed576b2@squarespace.com
DTSTAMP:20200420T103601Z
DTSTART:20200519T110000Z
DTEND:20200519T120000Z
SUMMARY:Using a Program Logic in the Time of COVID19
END:VEVENT
END:VCALENDAR
