BEGIN:VCALENDAR
VERSION:2.0
PRODID:-//Squarespace Inc/Squarespace 6//v6//EN
BEGIN:VEVENT
UID:5ee34d8db4074139015ab8d2@squarespace.com
DTSTAMP:20200612T094811Z
DTSTART:20200909T230000Z
DTEND:20200910T010000Z
SUMMARY:Instructional Leadership: Creating Practice from Theory with Dr. Pe
 ter DeWitt
END:VEVENT
END:VCALENDAR
