BEGIN:VCALENDAR
VERSION:2.0
PRODID:-//Squarespace Inc/Squarespace 6//v6//EN
BEGIN:VEVENT
UID:5ee34cc616addd387d9b96e1@squarespace.com
DTSTAMP:20200612T095019Z
DTSTART:20200909T050000Z
DTEND:20200909T060000Z
SUMMARY:Thriving Teachers\, Thriving Schools with Dr. Anna Dabrowski
END:VEVENT
END:VCALENDAR
